Workbook

Sheet 様式第1号-1
A1: 様式第１号－１ 申請事業所一覧表
B4: 法人名 | F4: ※黄色で着色のあるセルのみ入力ください。
B6: 申請額 | C6: =K32 -> 0 | F6: ※申請額を様式第１号に記載してください。
A8: 基準別表の(1)～(9)に該当する障害福祉サービス事業所
B9: 事業所名 | C9: 事業所番号 | D9: 障害福祉サービス事業所の種別 （プルダウンより選択） | E9: 定員 R8.9.1現在 | F9: 単価 | G9: 障害福祉サービス提供実績の有無 （プルダウンより選択） | J9: 判定 〇× | K9: 支給額
G10: R8.4月分 | H10: R8.5月分 | I10: R8.6月分
F11: =IF(D11="","",VLOOKUP(D11,リスト!$A$1:$B$9,2,0)) | J11: =IF(AND(G11="有",H11="有",I11="有"),"〇","×") -> 〇 | K11: =IF(J11="×",0,IF(J11="〇",E11*F11,"")) -> 0
F12: =IF(D12="","",VLOOKUP(D12,リスト!$A$1:$B$9,2,0)) | J12: =IF(AND(G12="有",H12="有",I12="有"),"〇","×") -> 〇 | K12: =IF(J12="×",0,IF(J12="〇",E12*F12,"")) -> 0
F13: =IF(D13="","",VLOOKUP(D13,リスト!$A$1:$B$9,2,0)) | J13: =IF(AND(G13="有",H13="有",I13="有"),"〇","×") -> 〇 | K13: =IF(J13="×",0,IF(J13="〇",E13*F13,"")) -> 0
F14: =IF(D14="","",VLOOKUP(D14,リスト!$A$1:$B$9,2,0)) | J14: =IF(AND(G14="有",H14="有",I14="有"),"〇","×") -> 〇 | K14: =IF(J14="×",0,IF(J14="〇",E14*F14,"")) -> 0
F15: =IF(D15="","",VLOOKUP(D15,リスト!$A$1:$B$9,2,0)) | J15: =IF(AND(G15="有",H15="有",I15="有"),"〇","×") -> 〇 | K15: =IF(J15="×",0,IF(J15="〇",E15*F15,"")) -> 0
F16: =IF(D16="","",VLOOKUP(D16,リスト!$A$1:$B$9,2,0)) | J16: =IF(AND(G16="有",H16="有",I16="有"),"〇","×") -> 〇 | K16: =IF(J16="×",0,IF(J16="〇",E16*F16,"")) -> 0
F17: =IF(D17="","",VLOOKUP(D17,リスト!$A$1:$B$9,2,0)) | J17: =IF(AND(G17="有",H17="有",I17="有"),"〇","×") -> 〇 | K17: =IF(J17="×",0,IF(J17="〇",E17*F17,"")) -> 0
F18: =IF(D18="","",VLOOKUP(D18,リスト!$A$1:$B$9,2,0)) | J18: =IF(AND(G18="有",H18="有",I18="有"),"〇","×") -> 〇 | K18: =IF(J18="×",0,IF(J18="〇",E18*F18,"")) -> 0
F19: =IF(D19="","",VLOOKUP(D19,リスト!$A$1:$B$9,2,0)) | J19: =IF(AND(G19="有",H19="有",I19="有"),"〇","×") -> 〇 | K19: =IF(J19="×",0,IF(J19="〇",E19*F19,"")) -> 0
F20: =IF(D20="","",VLOOKUP(D20,リスト!$A$1:$B$9,2,0)) | J20: =IF(AND(G20="有",H20="有",I20="有"),"〇","×") -> 〇 | K20: =IF(J20="×",0,IF(J20="〇",E20*F20,"")) -> 0
F21: =IF(D21="","",VLOOKUP(D21,リスト!$A$1:$B$9,2,0)) | J21: =IF(AND(G21="有",H21="有",I21="有"),"〇","×") -> 〇 | K21: =IF(J21="×",0,IF(J21="〇",E21*F21,"")) -> 0
F22: =IF(D22="","",VLOOKUP(D22,リスト!$A$1:$B$9,2,0)) | J22: =IF(AND(G22="有",H22="有",I22="有"),"〇","×") -> 〇 | K22: =IF(J22="×",0,IF(J22="〇",E22*F22,"")) -> 0
... F30: =IF(D30="","",VLOOKUP(D30,リスト!$A$1:$B$9,2,0)) | J30: =IF(AND(G30="有",H30="有",I30="有"),"〇","×") -> 〇 | K30: =IF(J30="×",0,IF(J30="〇",E30*F30,"")) -> 0
E31: ※基準別表の(3)、(8)、(9)を多機能型事業所としてそれぞれのサービスで定員を設けていない場合は、一体としている合計の定員
J32: 支給額計 | K32: =SUM(K11:K30) -> 0

Sheet リスト
A1: (1) 短期入所事業所 | B1: 8500
A2: (2) 共同生活援助事業所 | B2: 8500
A3: (3) 生活介護事業所 | B3: 3100
A4: (4) 自立訓練事業所 | B4: 3100
A5: (5) 就労選択支援事業所 | B5: 3100
A6: (6) 就労移行支援事業所 | B6: 3100
A7: (7) 就労継続支援事業所 | B7: 3100
A8: (8) 児童発達支援事業所 | B8: 3100
A9: (9) 放課後等デイサービス事業所 | B9: 3100
A11: 有
A12: 無
