Workbook

Sheet 入力フォーム
A1: 大津市市民活動センター団体登録シート | O1: ※水色の箇所を入力してください
A2: 申請者名
A3: フリガナ
A4: 団体名 ※正式名称
A5: 団体の形態 | G5: ここから選択してください | N5: 「その他」の場合は形態を記載→
A6: 登録所在地 ※登録所在地がない場合は代表者等の住所
A7: 〒 | D7: －
A9: フリガナ | O9: フリガナ
A10: 代表者名 | O10: 連絡先担当者名
A11: 電話番号（ハイフンなし） | O11: FAX番号（ハイフンなし）
A12: メールアドレス
A13: ホームページURL
A14: SNSの有無 ※☑をいれてください | G14: FALSE | H14: X（旧Twitter） | M14: FALSE | N14: Instagram | R14: FALSE | S14: Youtube | W14: FALSE | X14: TikTok
G15: FALSE | H15: Facebook | M15: FALSE | N15: その他（ ）
A16: 活動内容 ※300字以内
A18: 活動エリア 記入例：○○学区、市民活動センター、市内全域、県内全域、国内全域、国外を含む地域 など
A20: 活動日・時間 記入例：毎週月曜18時～20時、毎月10日13時～15時、不定期 など
A22: 活動分野 ※優先度の高いものを下記から最大５つ選択してください。 選択肢のいずれにも当てはまらない場合は「その他」を選択し、活動分野をご記入ください。
A23: １ | D23: ２ | G23: ３ | J23: ４ | M23: ５
A24: ① 保健、医療又は福祉の増進を図る活動 | O24: ⑪ 国際協力の活動
A25: ② 社会教育の推進を図る活動 | O25: ⑫ 男女共同参画社会の形成の促進を図る活動
A26: ③ まちづくりの推進を図る活動 | O26: ⑬ 子どもの健全育成を図る活動
A27: ④ 観光の振興を図る活動 | O27: ⑭ 情報化社会の発展を図る活動
A28: ⑤ 農山漁村又は中山間地域の振興を図る活動 | O28: ⑮ 科学技術の振興を図る活動
A29: ⑥ 学術、文化、芸術又はスポーツの振興を図る活動 | O29: ⑯ 経済活動の活性化を図る活動
A30: ➆ 環境の保全を図る活動 | O30: ⑰ 職業能力の開発又は雇用機会の拡充を支援する活動
A31: ⑧ 災害救援活動 | O31: ⑱ 消費者の保護を図る活動
A32: ⑨ 地域安全活動 | O32: ⑲ 市民活動団体を支援する活動
A33: ⑩ 人権の擁護又は平和の推進を図る活動 | O33: ⑳ その他（下記に活動分野を記入してください。）
A34: 「その他」の場合は分野を記載→
A35: アピールポイント ※300字以内
A37: 公開・非公開設定 | G37: ここから選択してください
A38: 「一部公開可能」を選択された方のみ、公開する項目を選択してください ※下記の項目選択に関わらず「団体名」「活動内容」「活動分野」は公開させていただきます。
A39: FALSE | B39: 登録所在地の住所 | H39: FALSE | I39: 代表者名 | O39: FALSE | P39: 連絡先担当者名 | V39: FALSE | W39: 電話番号
A40: FALSE | B40: メールアドレス | H40: FALSE | I40: ホームページURL | O40: FALSE | P40: SNS | V40: FALSE | W40: 活動エリア
A41: FALSE | B41: 活動日・時間 | H41: FALSE | I41: 活動目的 | O41: FALSE | P41: 活動内容 | V41: FALSE | W41: アピールポイント
A42: FALSE | B42: 団体名、活動内容、活動分野の３情報のみ公開可能
A43: ご記入ありがとうございました。団体登録シートは、大津市市民活動センターまでメールでお送りください。
A44: メールアドレス： | E44: otsu1172@city.otsu.lg.jp

Sheet データ（編集しないでください）
A1: 利用者ID | B1: 連絡先 | C1: 整理番号 | D1: 氏名/法人名 | E1: 様式Ver | F1: 様式ID | G1: 様式名 | H1: 申込日時 | I1: 処理状況 | J1: 備考 | K1: 申請者名 | L1: 空行 | M1: 団体名 | N1: 団体名（フリガナ） | O1: 団体の形態 | P1: 登録所在地の郵便番号 | Q1: 登録所在地の住所 | R1: 代表者名 | S1: 代表者名（フリガナ） | T1: 連絡先担当者名 | U1: 連絡先担当者名（フリガナ） | V1: 電話番号（ハイフンなし） | W1: FAX番号（ハイフンなし） | X1: メールアドレス | Y1: ホームページURL | Z1: SNS | AA1: SNS | AB1: SNS | AC1: SNS | AD1: SNS | AE1: SNS | AF1: 空行 | AG1: 活動内容 | AH1: 活動エリア | AI1: 活動日・時間 | AJ1: 活動分野 | AK1: 活動分野 | AL1: 活動分野 | AM1: 活動分野 | AN1: 活動分野 | AO1: アピールポイント | AP1: 公開・非公開設定 | AQ1: 公開可能な項目の選択 | AR1: 公開可能な項目の選択 | AS1: 公開可能な項目の選択 | AT1: 公開可能な項目の選択 | AU1: 公開可能な項目の選択 | AV1: 公開可能な項目の選択 | AW1: 公開可能な項目の選択 | AX1: 公開可能な項目の選択 | AY1: 公開可能な項目の選択 | AZ1: 公開可能な項目の選択 | BA1: 公開可能な項目の選択 | BB1: 公開可能な項目の選択
K2: =IF(入力フォーム!G2="","",入力フォーム!G2) | M2: =IF(入力フォーム!G4="","",入力フォーム!G4) | N2: =IF(入力フォーム!G3="","",入力フォーム!G3) | O2: =IF(入力フォーム!G5="ここから選択してください","",入力フォーム!G5) | P2: =IF(OR(入力フォーム!B7="",入力フォーム!E7=""),"",TEXT(入力フォーム!B7,"000")&TEXT(入力フォーム!E7,"0000")) | Q2: =IF(入力フォーム!A8="","",入力フォーム!A8) | R2: =IF(入力フォーム!G10="","",入力フォーム!G10) | S2: =IF(入力フォーム!G9="","",入力フォーム!G9) | T2: =IF(入力フォーム!U10="","",入力フォーム!U10) | U2: =IF(入力フォーム!U9="","",入力フォーム!U9) | V2: =IF(入力フォーム!G11="","",SUBSTITUTE(SUBSTITUTE(SUBSTITUTE(SUBSTITUTE(SUBSTITUTE(ASC(入力フォーム!G11),"-",""),"ｰ",""),"ー",""),"―",""),"−","")) | W2: =IF(入力フォーム!U11="","",SUBSTITUTE(SUBSTITUTE(SUBSTITUTE(SUBSTITUTE(SUBSTITUTE(ASC(入力フォーム!U11),"-",""),"ｰ",""),"ー",""),"―",""),"−","")) | X2: =IF(入力フォーム!G12="","",入力フォーム!G12) | Y2: =IF(入力フォーム!G13="","",入力フォーム!G13) | Z2: {=_xlfn.LET(_xlpm.チェック,_xlfn.VSTACK(入力フォーム!G14,入力フォーム!M14,入力フォーム!R14,入力フォーム!W14,入力フォーム!G15,入力フォーム!M15),_xlpm.SNS,_xlfn.VSTACK(入力フォーム!H14,入力フォーム!N14,入力フォーム!S14,入力フォーム!X14,入力フォーム!H15,入力フォーム!N15),TRANSPOSE(_xlfn._xlws.FILTER(_xlpm.SNS,_xlpm.チェック=TRUE,"")))} | AG2: =IF(入力フォーム!A17="","",入力フォーム!A17) | AH2: =IF(入力フォーム!A19="","",入力フォーム!A19) | AI2: =IF(入力フォーム!A21="","",入力フォーム!A21) | AJ2: =IF(入力フォーム!B23="","",IF(入力フォーム!B23="⑳",IF(入力フォーム!H34="","エラー",入力フォーム!H34),_xlfn.XLOOKUP(入力フォーム!B23,'リスト（編集しないでください）'!B:B,'リスト（編集しないでください）'!C:C,"エラー"))) | AK2: =IF(入力フォーム!E23="","",IF(入力フォーム!E23="⑳",IF(入力フォーム!H34="","エラー",入力フォーム!H34),_xlfn.XLOOKUP(入力フォーム!E23,'リスト（編集しないでください）'!B:B,'リスト（編集しないでください）'!C:C,"エラー"))) | AL2: =IF(入力フォーム!H23="","",IF(入力フォーム!H23="⑳",IF(入力フォーム!H34="","エラー",入力フォーム!H34),_xlfn.XLOOKUP(入力フォーム!H23,'リスト（編集しないでください）'!B:B,'リスト（編集しないでください）'!C:C,"エラー"))) | AM2: =IF(入力フォーム!K23="","",IF(入力フォーム!K23="⑳",IF(入力フォーム!H34="","エラー",入力フォーム!H34),_xlfn.XLOOKUP(入力フォーム!K23,'リスト（編集しないでください）'!B:B,'リスト（編集しないでください）'!C:C,"エラー"))) | AN2: =IF(入力フォーム!N23="","",IF(入力フォーム!N23="⑳",IF(入力フォーム!H34="","エラー",入力フォーム!H34),_xlfn.XLOOKUP(入力フォーム!N23,'リスト（編集しないでください）'!B:B,'リスト（編集しないでください）'!C:C,"エラー"))) | AO2: =IF(入力フォーム!A36="","",入力フォーム!A36) | AP2: =IF(入力フォーム!G37="ここから選択してください","",入力フォーム!G37) | AQ2: {=_xlfn.LET(_xlpm.チェック,_xlfn.VSTACK(入力フォーム!A39,入力フォーム!H39,入力フォーム!O39,入力フォーム!V39,入力フォーム!A40,入力フォーム!H40,入力フォーム!O40,入力フォーム!V40,入力フォーム!A41,入力フォーム!H41,入力フォーム!O41,入力フォーム!V41,入力フォーム!A42),_xlpm.公開可能な項目の選択,_xlfn.VSTACK(入力フォーム!B39,入力フォーム!I39,入力フォーム!P39,入力フォーム!W39,入力フォーム!B40,入力フォーム!I40,入力フォーム!P40,入力フォーム!W40,入力フォーム!B41,入力フォーム!I41,入力フォーム!P41,入力フォーム!W41,入力フォーム!B42),TRANSPOSE(_xlfn._xlws.FILTER(_xlpm.公開可能な項目の選択,_xlpm.チェック=TRUE,"")))}

Sheet リスト（編集しないでください）
A1: 団体の形態 | B1: 活動分野 | D1: 公開・非公開設定
A2: ここから選択してください | D2: ここから選択してください
A3: NPO法人 | B3: ① | C3: 1.保健、医療又は福祉の増進を図る活動 | D3: 全て公開
A4: 認定NPO法人 | B4: ② | C4: 2.社会教育の推進を図る活動 | D4: 全て非公開（市民活動センターからの連絡にのみ情報を活用します）
A5: 一般社団法人 | B5: ③ | C5: 3.まちづくりの推進を図る活動 | D5: 一部公開可能（下記から公開可能なものを選択してください。）
A6: 一般財団法人 | B6: ④ | C6: 4.観光の振興を図る活動
A7: 公益社団法人 | B7: ⑤ | C7: 5.農山漁村又は中山間地域の振興を図る活動
A8: 公益財団法人 | B8: ⑥ | C8: 6.学術、文化、芸術又はスポーツの振興を図る活動
A9: 社会福祉法人 | B9: ➆ | C9: 7.環境の保全を図る活動
A10: 任意団体 | B10: ⑧ | C10: 8.災害救援活動
A11: 実行委員会 | B11: ⑨ | C11: 9.地域安全活動
A12: その他 | B12: ⑩ | C12: 10.人権の擁護又は平和の推進を図る活動
B13: ⑪ | C13: 11.国際協力の活動
B14: ⑫ | C14: 12.男女共同参画社会の形成の促進を図る活動
B15: ⑬ | C15: 13.子どもの健全育成を図る活動
B16: ⑭ | C16: 14.情報化社会の発展を図る活動
B17: ⑮ | C17: 15.科学技術の振興を図る活動
B18: ⑯ | C18: 16.経済活動の活性化を図る活動
B19: ⑰ | C19: 17.職業能力の開発又は雇用機会の拡充を支援する活動
B20: ⑱ | C20: 18.消費者の保護を図る活動
B21: ⑲ | C21: 19.市民活動団体を支援する活動
B22: ⑳
